BEGIN:VCALENDAR
VERSION:2.0
PRODID:-//pretix//pretix.eu//
BEGIN:VTIMEZONE
TZID:Europe/Berlin
BEGIN:STANDARD
DTSTART:20001029T040000
RRULE:FREQ=YEARLY;BYDAY=-1SU;BYMONTH=10
TZNAME:CET
TZOFFSETFROM:+0200
TZOFFSETTO:+0100
END:STANDARD
BEGIN:DAYLIGHT
DTSTART:20000326T030000
RRULE:FREQ=YEARLY;BYDAY=-1SU;BYMONTH=3
TZNAME:CEST
TZOFFSETFROM:+0100
TZOFFSETTO:+0200
END:DAYLIGHT
END:VTIMEZONE
BEGIN:VEVENT
UID:pretix-tscdancepoint-30-jahre-0@tickets.tsc-dancepoint.de
DTSTART;TZID=Europe/Berlin:20261024T180000
DTEND;TZID=Europe/Berlin:20261024T190000
DESCRIPTION:Tickets: https://tickets.tsc-dancepoint.de/30-jahre/\nAdmission
 : 2026-10-24 17:00\nOrganizer: TSC dancepoint e.V.
DTSTAMP:20260423T042712Z
LOCATION:Weißkopfstraße 16\, 86343 Königsbrunn
SUMMARY:Jubiläumsgala - 30 Jahre dancepoint
END:VEVENT
BEGIN:VEVENT
UID:pretix-tscdancepoint-world-cup-boogie-2026-4709028@tickets.tsc-dancepoi
 nt.de
DTSTART;VALUE=DATE:20260516
DTEND;VALUE=DATE:20260517
DESCRIPTION:Tickets: https://tickets.tsc-dancepoint.de/world-cup-boogie-202
 6/4709028/\nAdmission: 2026-05-16 11:00\nOrganizer: TSC dancepoint e.V.
DTSTAMP:20260423T042712Z
LOCATION:Königsallee 1\, 86343 Königsbrunn
SUMMARY:European Championship & World Cup Boogie Woogie 2026
END:VEVENT
BEGIN:VEVENT
UID:pretix-tscdancepoint-world-cup-boogie-2026-4709080@tickets.tsc-dancepoi
 nt.de
DTSTART;VALUE=DATE:20260517
DTEND;VALUE=DATE:20260518
DESCRIPTION:Tickets: https://tickets.tsc-dancepoint.de/world-cup-boogie-202
 6/4709080/\nAdmission: 2026-05-17 09:00\nOrganizer: TSC dancepoint e.V.
DTSTAMP:20260423T042712Z
LOCATION:Weißkopfstraße 16\, 86343 Königsbrunn
SUMMARY:Workshop Boogie Woogie Königsbrunn 2026
END:VEVENT
END:VCALENDAR
